BEGIN:VCALENDAR
VERSION:2.0
PRODID:-//Sabre//Sabre VObject 4.5.8//EN
CALSCALE:GREGORIAN
BEGIN:VTIMEZONE
TZID:Europe/Zurich
X-LIC-LOCATION:Europe/Zurich
TZURL:http://tzurl.org/zoneinfo/Europe/Zurich
BEGIN:DAYLIGHT
TZOFFSETFROM:+0100
TZOFFSETTO:+0200
TZNAME:CEST
DTSTART:19810329T020000
RRULE:FREQ=YEARLY;BYMONTH=3;BYDAY=-1SU
END:DAYLIGHT
BEGIN:STANDARD
TZOFFSETFROM:+0200
TZOFFSETTO:+0100
TZNAME:CET
DTSTART:19961027T030000
RRULE:FREQ=YEARLY;BYMONTH=10;BYDAY=-1SU
END:STANDARD
END:VTIMEZONE
BEGIN:VEVENT
UID:news303@genderstudies.philhist.unibas.ch
DTSTAMP;TZID=Europe/Zurich:20220407T085413
DTSTART;TZID=Europe/Zurich:20220513T000000
SUMMARY:Symposium Emeritierung von Andrea Maihofer
DESCRIPTION:Freitag\, 13. Mai & Samstag\, 14.Mai Symposium: Aula des Kolleg
 ienhauses\, Universität Basel\, Petersplatz 1\, 4051 Basel Abendprogramm:
  Sudhaus\, Burgweg 7\, 4058 Basel Anmeldung bis 1. Mai 2022\\r\\nLink zum
  Flyer [https://genderstudies.philhist.unibas.ch/fileadmin/user_upload/ge
 nderstudies/Symposium_2022_Emeritierung_Andrea_Maihofer_-_Geschlechterfors
 chung_als_kritische_Wissenschaft.pdf] Link zur Anmeldung [https://docs.goo
 gle.com/forms/d/e/1FAIpQLSduYUPGTXkYEgJGcktktnHSLOZ1lBR6DeHxKrufxZwLT1Turg
 /viewform]\\r\\nGeschlecht kommt in den aktuellen gesellschaftlichen Trans
 formationsprozessen eine zentrale Bedeutung zu. Spannungen und Polarisier
 ungen finden sich hierbei in Zusammenhang mit so verschiedenen Phänomenen
  wie der Krise der sozialen Reproduktion des Lebens wie auch autoritärem 
 Populismus. Auseinandersetzungen um Demokratie\, Freiheit\, Wahrheit und W
 issenschaft sowie Lebensweisen und Diskriminierung\, werden zu Ausgangspun
 kten sowohl von emanzipatorischen als auch rechtspopulistisch-antiemanzipa
 torischen Bewegungen. Die unterschiedlichen epistemischen\\r\\nPerspektive
 n und die gesellschaftlichen Widersprüche und Spaltungen\, die in diesen
  Debatten affektiv aufgeladen aufeinandertreffen\, sowie die damit verbund
 enen gesellschaftlichen Prozesse bedürfen differenzierter Analysen. Als 
 inter- und transdisziplinäre und intersektionale Wissenschaft ist die Ges
 chlechterforschung dazu aufgefordert\, zu einer solchen Form kritischer Wi
 ssenschaft beizutragen. Gleichzeitig stellt sich die Aufgabe\, sich mit ei
 ner Haltung an den gesellschaftlichen Debatten zu beteiligen\, die Dialog
  fördert\, statt Polarisierungen weiter zuzuspitzen.\\r\\nFür Personen\,
  die eine Übernachtungsmöglichkeit suchen\, sind im Hotel Odelya (Missio
 nsstrasse 21\, 4055 Basel)\, im Hotel au Violon (Im Lohnhof 4\, 4051 Basel
 ) und in der Jugendherberge (Maja Sacher Platz 10\, 4052 Basel) Zimmer res
 erviert. Die Kontingente werden bis zum 13.4. gehalten\, danach werden die
  nicht gebuchten Zimmer wieder freigegeben. Als Referenz ist Symposium Ma
 ihofer zu nennen.
X-ALT-DESC:<p>Freitag\, 13. Mai &amp\; Samstag\, 14.Mai<br /> Symposium: Au
 la des Kollegienhauses\, Universität Basel\, Petersplatz 1\, 4051 Basel<b
 r /> Abendprogramm: Sudhaus\, Burgweg 7\, 4058 Basel<br /> Anmeldung bis 1
 . Mai 2022</p>\n<p>Link <a href="https://genderstudies.philhist.unibas.ch/
 fileadmin/user_upload/genderstudies/Symposium_2022_Emeritierung_Andrea_Mai
 hofer_-_Geschlechterforschung_als_kritische_Wissenschaft.pdf">zum&nbsp\;Fl
 yer</a><br /> Link <a href="https://docs.google.com/forms/d/e/1FAIpQLSduYU
 PGTXkYEgJGcktktnHSLOZ1lBR6DeHxKrufxZwLT1Turg/viewform">zur Anmeldung</a></
 p>\n<p>Geschlecht kommt in den aktuellen gesellschaftlichen Transformation
 sprozessen&nbsp\;eine zentrale Bedeutung zu. Spannungen und Polarisierunge
 n finden sich hierbei in Zusammenhang mit so verschiedenen Phänomenen wie
  der Krise der sozialen Reproduktion des Lebens wie auch autoritärem Popu
 lismus. Auseinandersetzungen um Demokratie\, Freiheit\, Wahrheit und Wisse
 nschaft sowie Lebensweisen und Diskriminierung\, werden zu Ausgangspunkten
  sowohl von emanzipatorischen als auch rechtspopulistisch-antiemanzipatori
 schen Bewegungen. Die unterschiedlichen epistemischen</p>\n<p>Perspektiven
  und die gesellschaftlichen Widersprüche und Spaltungen\, die in diesen 
 Debatten affektiv aufgeladen aufeinandertreffen\, sowie die damit verbunde
 nen gesellschaftlichen Prozesse bedürfen differenzierter Analysen. Als i
 nter- und transdisziplinäre und intersektionale Wissenschaft ist die Gesc
 hlechterforschung dazu aufgefordert\, zu einer solchen Form kritischer Wis
 senschaft beizutragen. Gleichzeitig stellt sich die Aufgabe\, sich mit ein
 er Haltung an den gesellschaftlichen Debatten zu beteiligen\, die&nbsp\;Di
 alog fördert\, statt Polarisierungen weiter zuzuspitzen.</p>\n<p>Für Per
 sonen\, die eine Übernachtungsmöglichkeit suchen\, sind im Hotel Odelya 
 (Missionsstrasse 21\, 4055 Basel)\, im Hotel au Violon (Im Lohnhof 4\, 405
 1 Basel) und in der Jugendherberge (Maja Sacher Platz 10\, 4052 Basel) Zim
 mer reserviert. Die Kontingente werden bis zum 13.4. gehalten\, danach wer
 den die nicht gebuchten Zimmer wieder freigegeben. Als Referenz ist&nbsp\;
 <em>Symposium Maihofer</em>&nbsp\;zu nennen.</p>
DTEND;TZID=Europe/Zurich:20220514T000000
END:VEVENT
END:VCALENDAR
